BEGIN:VCALENDAR
VERSION:2.0
PRODID:-//DigIT Hub - ECPv6.15.20//NONSGML v1.0//EN
CALSCALE:GREGORIAN
METHOD:PUBLISH
X-WR-CALNAME:DigIT Hub
X-ORIGINAL-URL:https://digithub.se
X-WR-CALDESC:Händelser för DigIT Hub
REFRESH-INTERVAL;VALUE=DURATION:PT1H
X-Robots-Tag:noindex
X-PUBLISHED-TTL:PT1H
BEGIN:VTIMEZONE
TZID:Europe/Stockholm
BEGIN:DAYLIGHT
TZOFFSETFROM:+0100
TZOFFSETTO:+0200
TZNAME:CEST
DTSTART:20240331T010000
END:DAYLIGHT
BEGIN:STANDARD
TZOFFSETFROM:+0200
TZOFFSETTO:+0100
TZNAME:CET
DTSTART:20241027T010000
END:STANDARD
BEGIN:DAYLIGHT
TZOFFSETFROM:+0100
TZOFFSETTO:+0200
TZNAME:CEST
DTSTART:20250330T010000
END:DAYLIGHT
BEGIN:STANDARD
TZOFFSETFROM:+0200
TZOFFSETTO:+0100
TZNAME:CET
DTSTART:20251026T010000
END:STANDARD
BEGIN:DAYLIGHT
TZOFFSETFROM:+0100
TZOFFSETTO:+0200
TZNAME:CEST
DTSTART:20260329T010000
END:DAYLIGHT
BEGIN:STANDARD
TZOFFSETFROM:+0200
TZOFFSETTO:+0100
TZNAME:CET
DTSTART:20261025T010000
END:STANDARD
END:VTIMEZONE
BEGIN:VEVENT
DTSTART;TZID=Europe/Stockholm:20250903T130000
DTEND;TZID=Europe/Stockholm:20250903T150000
DTSTAMP:20260424T024403
CREATED:20250523T114927Z
LAST-MODIFIED:20250605T111452Z
UID:3946-1756904400-1756911600@digithub.se
SUMMARY:Vårt uppdrag i en digital stad
DESCRIPTION:Anmäl dig\nKlicka här för att komma till anmälningsformuläret.\n——– \nVad händer med vårt gemensamma minne när staden blir digital? \nI takt med att allt mer av våra liv och våra verksamheter digitaliseras väcks nya frågor: \n📁 Hur sparar vi digital information på ett sätt som håller över tid?\n🧠 Vad händer med arkivens roll när dokumenten vi skapar är dynamiska\, levande – och ibland flyktiga?\n🤖 Vilken plats har AI i bevarandet av vår demokrati och historia? \n📅 Den 3 september kl. 13:00–15:00 bjuder Helsingborgs stadsarkiv och DigIT Hub Sweden in till ett kostnadsfritt digitalt evenemang: ”Vårt uppdrag i en digital stad” \n  \nVi kommer bland annat få höra: \nCaspar Almalander (SKR) blickar framåt mot hur kommunal informationshantering förändras\, och varför.\nSophia Hydén\, stadsarkivarie i Helsingborg\, delar konkreta exempel på hur arkivens roll utvecklas när kommunen blir digital.\nMarina Trattner (OpenTech) kopplar samman AI\, etik och informationsförvaltning – och frågar vad som egentligen står på spel i en digital demokrati. \nVi utforskar även hur sociala medier\, webbinnehåll och andra digitala plattformar påverkar framtidens dokumentation. Missa inte chansen att delta i samtalet om hur vi bygger ett samhälle som inte bara är smart\, utan också minns! \nEventet är för dig som jobbar med informationshantering\, digitalisering eller samhällsutveckling – eller bara är nyfiken på hur framtiden formas i det tysta. \n\n———\nProgram: \nVälkommen – Alenka Cernec\, moderator Helsingborg stad /DigIT Hub Sweden \nFramtidsspaning med Caspar Almalander\nTalare: Caspar Almalander\, Informationshanteringsstrateg SKR \nStadsarkivets uppdrag i en digital organisation\nTalare: Sophia Hydén\, Stadsarkivarie Helsingborgs stad \nSociala medier och hemsidor som historiebärare\nTalare: Ida Frisell\, e-arkivarie Helsingborg stad & Maria Schlyter\, e-arkivarie Helsingborg stad \nPaus – kort bensträckare \nAI\, digitalisering och historia i kampen för demokrati\nTalare: Marina Trattner\, Chefsjurist på OpenTech\, oberoende forskare \nAvslut – Alenka Cernec\, moderator Helsingborg stad / DigIT Hub Sweden \n– \nAnmäl dig\nKlicka här för att komma till anmälningsformuläret.
URL:https://digithub.se/event/vart-uppdrag-i-en-digital-stad/
LOCATION:Digitalt event
ATTACH;FMTTYPE=image/jpeg:https://digithub.se/wp-content/uploads/image001.jpg
END:VEVENT
END:VCALENDAR